BEGIN:VCALENDAR
VERSION:2.0
PRODID:-//Tous Semblables Tous Différents - ECPv6.15.20//NONSGML v1.0//EN
CALSCALE:GREGORIAN
METHOD:PUBLISH
X-WR-CALNAME:Tous Semblables Tous Différents
X-ORIGINAL-URL:https://assotstd.com
X-WR-CALDESC:Évènements pour Tous Semblables Tous Différents
REFRESH-INTERVAL;VALUE=DURATION:PT1H
X-Robots-Tag:noindex
X-PUBLISHED-TTL:PT1H
BEGIN:VTIMEZONE
TZID:Europe/Paris
BEGIN:DAYLIGHT
TZOFFSETFROM:+0100
TZOFFSETTO:+0200
TZNAME:CEST
DTSTART:20230326T010000
END:DAYLIGHT
BEGIN:STANDARD
TZOFFSETFROM:+0200
TZOFFSETTO:+0100
TZNAME:CET
DTSTART:20231029T010000
END:STANDARD
BEGIN:DAYLIGHT
TZOFFSETFROM:+0100
TZOFFSETTO:+0200
TZNAME:CEST
DTSTART:20240331T010000
END:DAYLIGHT
BEGIN:STANDARD
TZOFFSETFROM:+0200
TZOFFSETTO:+0100
TZNAME:CET
DTSTART:20241027T010000
END:STANDARD
BEGIN:DAYLIGHT
TZOFFSETFROM:+0100
TZOFFSETTO:+0200
TZNAME:CEST
DTSTART:20250330T010000
END:DAYLIGHT
BEGIN:STANDARD
TZOFFSETFROM:+0200
TZOFFSETTO:+0100
TZNAME:CET
DTSTART:20251026T010000
END:STANDARD
END:VTIMEZONE
BEGIN:VEVENT
DTSTART;TZID=Europe/Paris:20240701T080000
DTEND;TZID=Europe/Paris:20240701T120000
DTSTAMP:20260425T234841
CREATED:20240508T153718Z
LAST-MODIFIED:20240508T155007Z
UID:4291-1719820800-1719835200@assotstd.com
SUMMARY:Course Solidaire - Ecole Louis Gaucher
DESCRIPTION:Un grand merci à l’école primaire Louis Gaucher de Sainte Marie de Ré qui organise le Lundi 1er Juillet 2024 sa 2ème course solidaire au profit de l’association Tous Semblables\, Tous Différents. \nLes dons collectés nous aideront à avancer sur notre projet Une école pour Diofior \n 
URL:https://assotstd.com/event/course-solidaire-ecole-louis-gaucher/
LOCATION:Stade Municipal de Sainte Marie de Ré\, Sainte Marie de Ré\, 17740\, France
CATEGORIES:course,sport
ATTACH;FMTTYPE=image/png:https://assotstd.com/wp/wp-content/uploads/2022/09/Logo-KIDSMILE-Diofior-Senegal.png
END:VEVENT
END:VCALENDAR