BEGIN:VCALENDAR
VERSION:2.0
PRODID:-//Tous Semblables Tous Différents - ECPv6.15.20//NONSGML v1.0//EN
CALSCALE:GREGORIAN
METHOD:PUBLISH
X-ORIGINAL-URL:https://assotstd.com
X-WR-CALDESC:Évènements pour Tous Semblables Tous Différents
REFRESH-INTERVAL;VALUE=DURATION:PT1H
X-Robots-Tag:noindex
X-PUBLISHED-TTL:PT1H
BEGIN:VTIMEZONE
TZID:Europe/Paris
BEGIN:DAYLIGHT
TZOFFSETFROM:+0100
TZOFFSETTO:+0200
TZNAME:CEST
DTSTART:20240331T010000
END:DAYLIGHT
BEGIN:STANDARD
TZOFFSETFROM:+0200
TZOFFSETTO:+0100
TZNAME:CET
DTSTART:20241027T010000
END:STANDARD
BEGIN:DAYLIGHT
TZOFFSETFROM:+0100
TZOFFSETTO:+0200
TZNAME:CEST
DTSTART:20250330T010000
END:DAYLIGHT
BEGIN:STANDARD
TZOFFSETFROM:+0200
TZOFFSETTO:+0100
TZNAME:CET
DTSTART:20251026T010000
END:STANDARD
BEGIN:DAYLIGHT
TZOFFSETFROM:+0100
TZOFFSETTO:+0200
TZNAME:CEST
DTSTART:20260329T010000
END:DAYLIGHT
BEGIN:STANDARD
TZOFFSETFROM:+0200
TZOFFSETTO:+0100
TZNAME:CET
DTSTART:20261025T010000
END:STANDARD
END:VTIMEZONE
BEGIN:VEVENT
DTSTART;TZID=Europe/Paris:20250907T100000
DTEND;TZID=Europe/Paris:20250907T180000
DTSTAMP:20260425T175808
CREATED:20250825T221032Z
LAST-MODIFIED:20260124T200252Z
UID:4626-1757239200-1757268000@assotstd.com
SUMMARY:Forum des Associations Rueil Malmaison
DESCRIPTION:Venez à notre rencontre au Forum des Associations de la Ville de Rueil Malmaison on vous attend Dimanche 7 Septembre au Parc des Bords de Seine de 10h à 18h pour vous présenter nos projets\, nos futurs évènements et nos missions de bénévolat.
URL:https://assotstd.com/event/forum-des-associations-rueil-malmaison/
LOCATION:Parc des Bords de Seine\, 25 chemin rural\, Rueil Malmaison\, 92500\, France
ATTACH;FMTTYPE=image/jpeg:https://assotstd.com/wp/wp-content/uploads/2025/08/536170181_1192630052889659_2133745820125187163_n.jpg
END:VEVENT
BEGIN:VEVENT
DTSTART;TZID=Europe/Paris:20250921T100000
DTEND;TZID=Europe/Paris:20250921T180000
DTSTAMP:20260425T175808
CREATED:20250825T215329Z
LAST-MODIFIED:20250825T222547Z
UID:4619-1758448800-1758477600@assotstd.com
SUMMARY:Participation Journée Eco-Citoyenne de Rueil Malmaison
DESCRIPTION:L’ association TSTD va participer à la Journée Eco-Citoyenne de la ville de Rueil Malmaison à l’occasion du World Clean up Day 2025. \nRDV le 21 Septembre 2025 de 10h à 18h sur les Bords de Seine. \nVenez participer au ramassage des déchets de 10h à 12h puis profiter d’un moment convivial en profitant du barbecue à partir de 12h30 organisé par la Mairie de Rueil Malmaison. \nNous proposerons ensuite une animation de 13h30 à 18h avec un quizz à faire en famille et une collecte de canettes au profit de l’association K net Partage.
URL:https://assotstd.com/event/journee-eco-citoyenne-de-rueil-malmaison/
LOCATION:Bords de Seine – Rueil Malmaison
CATEGORIES:cleanup,environnement
ATTACH;FMTTYPE=image/jpeg:https://assotstd.com/wp/wp-content/uploads/2025/08/515492898_1174901314662533_7933424778837711543_n.jpg
END:VEVENT
END:VCALENDAR